BEGIN:VCALENDAR
VERSION:2.0
PRODID:-//MassHire Greater Lowell Workforce Development Board - ECPv6.8.0//NONSGML v1.0//EN
CALSCALE:GREGORIAN
METHOD:PUBLISH
X-WR-CALNAME:MassHire Greater Lowell Workforce Development Board
X-ORIGINAL-URL:https://masshiregreaterlowell.com
X-WR-CALDESC:Events for MassHire Greater Lowell Workforce Development Board
REFRESH-INTERVAL;VALUE=DURATION:PT1H
X-Robots-Tag:noindex
X-PUBLISHED-TTL:PT1H
BEGIN:VTIMEZONE
TZID:America/New_York
BEGIN:DAYLIGHT
TZOFFSETFROM:-0500
TZOFFSETTO:-0400
TZNAME:EDT
DTSTART:20230312T070000
END:DAYLIGHT
BEGIN:STANDARD
TZOFFSETFROM:-0400
TZOFFSETTO:-0500
TZNAME:EST
DTSTART:20231105T060000
END:STANDARD
BEGIN:DAYLIGHT
TZOFFSETFROM:-0500
TZOFFSETTO:-0400
TZNAME:EDT
DTSTART:20240310T070000
END:DAYLIGHT
BEGIN:STANDARD
TZOFFSETFROM:-0400
TZOFFSETTO:-0500
TZNAME:EST
DTSTART:20241103T060000
END:STANDARD
END:VTIMEZONE
BEGIN:VEVENT
DTSTART;TZID=America/New_York:20240619T150000
DTEND;TZID=America/New_York:20240619T160000
DTSTAMP:20260419T110620
CREATED:20231023T140052Z
LAST-MODIFIED:20240318T195827Z
UID:17040-1718809200-1718812800@masshiregreaterlowell.com
SUMMARY:Workforce Performance & Opportunity Committee Meeting (Jun 2024)
DESCRIPTION:
URL:https://masshiregreaterlowell.com/event/workforce-performance-opportunity-committee-meeting-jun-2024/
LOCATION:Via Zoom\, MA\, United States
CATEGORIES:Committee Meetings
END:VEVENT
BEGIN:VEVENT
DTSTART;TZID=America/New_York:20240613T140000
DTEND;TZID=America/New_York:20240613T153000
DTSTAMP:20260419T110620
CREATED:20240220T220145Z
LAST-MODIFIED:20240318T194435Z
UID:17112-1718287200-1718292600@masshiregreaterlowell.com
SUMMARY:MHGLWB Quarterly Full Board Meeting (Jun 2024)
DESCRIPTION:
URL:https://masshiregreaterlowell.com/event/mhglwb-quarterly-full-board-meeting-jun-2024/
LOCATION:Hybrid
END:VEVENT
BEGIN:VEVENT
DTSTART;TZID=America/New_York:20240530T140000
DTEND;TZID=America/New_York:20240530T153000
DTSTAMP:20260419T110620
CREATED:20240301T161130Z
LAST-MODIFIED:20240318T195909Z
UID:17133-1717077600-1717083000@masshiregreaterlowell.com
SUMMARY:MHGLWB Executive Board Meeting (May 2024)
DESCRIPTION:
URL:https://masshiregreaterlowell.com/event/mhglwb-executive-board-meeting-may-2024/
LOCATION:Via Zoom\, MA\, United States
END:VEVENT
BEGIN:VEVENT
DTSTART;TZID=America/New_York:20240508T150000
DTEND;TZID=America/New_York:20240508T160000
DTSTAMP:20260419T110620
CREATED:20231023T135519Z
LAST-MODIFIED:20240318T195946Z
UID:17033-1715180400-1715184000@masshiregreaterlowell.com
SUMMARY:Workforce Performance & Opportunity Committee Meeting (May 2024)
DESCRIPTION:
URL:https://masshiregreaterlowell.com/event/workforce-performance-opportunity-committee-meeting-mar-2024/
LOCATION:Via Zoom\, MA\, United States
CATEGORIES:Committee Meetings
END:VEVENT
BEGIN:VEVENT
DTSTART;TZID=America/New_York:20240314T130000
DTEND;TZID=America/New_York:20240314T143000
DTSTAMP:20260419T110620
CREATED:20240220T214042Z
LAST-MODIFIED:20240220T215607Z
UID:17108-1710421200-1710426600@masshiregreaterlowell.com
SUMMARY:MHGLWB Quarterly Full Board Meeting (Mar 2024)
DESCRIPTION:
URL:https://masshiregreaterlowell.com/event/mhglwb-quarterly-full-board-meeting-march-14-2024-100-230pm/
LOCATION:Hybrid
END:VEVENT
BEGIN:VEVENT
DTSTART;TZID=America/New_York:20240229T130000
DTEND;TZID=America/New_York:20240229T143000
DTSTAMP:20260419T110620
CREATED:20240227T144516Z
LAST-MODIFIED:20240307T172905Z
UID:17127-1709211600-1709217000@masshiregreaterlowell.com
SUMMARY:MHGLWB Executive Board Meeting (Feb 2024)
DESCRIPTION:Executive Board Meeting AGENDA 2.29.24 (Final)\n  \nhttps://masshiregreaterlowell.com/wp-content/uploads/Executive-Board-Meeting-AGENDA-2.29.24-Final.pdf \n 
URL:https://masshiregreaterlowell.com/event/mhglwb-executive-board-meeting-feb-2024/
LOCATION:Via Zoom\, MA\, United States
END:VEVENT
BEGIN:VEVENT
DTSTART;TZID=America/New_York:20231207T140000
DTEND;TZID=America/New_York:20231207T153000
DTSTAMP:20260419T110620
CREATED:20231213T170355Z
LAST-MODIFIED:20231213T170815Z
UID:17061-1701957600-1701963000@masshiregreaterlowell.com
SUMMARY:MHGLWB Quarterly Full Board Meeting and Holiday Celebration (Dec 2023)
DESCRIPTION:On behalf of Chair Danielle McFadden\, you are cordially invited to the Quarterly Board of Directors meeting. The Workforce Board Holiday reception will immediately follow the Board Meeting.  This is an in-person meeting only. The agenda will be sent to all members in November.  Happy Holidays. \n 
URL:https://masshiregreaterlowell.com/event/mhglwb-quarterly-full-board-meeting-and-holiday-celebration/
LOCATION:The Nesmith House\, 229 Andover Street\, Lowell\, MA\, 01852\, United States
END:VEVENT
BEGIN:VEVENT
DTSTART;TZID=America/New_York:20231115T150000
DTEND;TZID=America/New_York:20231115T160000
DTSTAMP:20260419T110620
CREATED:20231023T135127Z
LAST-MODIFIED:20231023T140318Z
UID:17031-1700060400-1700064000@masshiregreaterlowell.com
SUMMARY:Workforce Performance & Opportunity Committee Meeting (Nov 2023)
DESCRIPTION:
URL:https://masshiregreaterlowell.com/event/workforce-performance-opportunity-committee-nov-2023/
LOCATION:Via Zoom\, MA\, United States
CATEGORIES:Committee Meetings
END:VEVENT
BEGIN:VEVENT
DTSTART;TZID=America/New_York:20230928T100000
DTEND;TZID=America/New_York:20230928T113000
DTSTAMP:20260419T110620
CREATED:20230925T162635Z
LAST-MODIFIED:20231023T140255Z
UID:16998-1695895200-1695900600@masshiregreaterlowell.com
SUMMARY:City Workforce Development Meeting (Sept 2023)
DESCRIPTION:On behalf of Kevin Coughlin\, you are invited to join in-person or virtually our upcoming City Workforce Development Meeting. \nBuilding Lowell’s Future Workforce \nOur goals are to incentivize students from UMass Lowell and Middlesex Community College to train and prepare for full-time city employment.  We want to design our goals not only to employ our youth but also to make them valuable and self-reliant members of the Lowell Workforce community.  We’ve been hard at work\, and we look forward to exchanging and developing these exciting ideas. \nhttps://zoom.us/j/95322116102?pwd=Zm56Qk84cEx0b0hRa1hycEo1RVNPdz09 \nMeeting ID: 953 2211 6102\nPasscode: 489933
URL:https://masshiregreaterlowell.com/event/city-workforce-development-meeting-sept-2023/
LOCATION:Hybrid: 107 Merrimack Street and Zoom\, 107 Merrimack Street\, Lowell\, MA\, 01852
CATEGORIES:Workforce Development Board Seminars
END:VEVENT
BEGIN:VEVENT
DTSTART;TZID=America/New_York:20230914T140000
DTEND;TZID=America/New_York:20230914T153000
DTSTAMP:20260419T110620
CREATED:20230522T185945Z
LAST-MODIFIED:20240116T221948Z
UID:16924-1694700000-1694705400@masshiregreaterlowell.com
SUMMARY:MHGLWB Quarterly Full Board Meeting (Sept 2023)
DESCRIPTION:MassHire Greater Lowell\nBoard of Directors\n2-3:30 pm\, Thursday\, September 14\, 2023\nHybrid: https://zoom.us/j/97133672533?pwd=TTJlN0c4ZXh3eFFOazFLMEFFTS9KZz09 and In-person \nAGENDA\n• Call to order – Chair Danielle McFadden\no Approval of the minutes \n• In Memoriam – Former Chair Ray Wroble \n• New Board Members –\no David Daly\, PrideStar Trinity Emergency Transportation\, Lowell\no Toly Chea\, Aqualite Corporation\, Tyngsborough \n• In Gratitude for Board Service –\no Cynthia Smith – Element Care\, Lowell – Retiring \n• Report of the Performance and Opportunities Committee – Chair Charlene Jancsy \n• Brief Labor Market Data Information (2 slides) \n• Transportation Pilot Program – Kevin\no Initiating Pilot Test – October through December – Himanshu Bhatnagar\, QRyde\no $2/ride each way – Home pickup to Workplace\, Workplace pickup to Home \n• Executive Director Report:\no Funding for FY 24-25 – Potential cut in One Stop Monies in State budget – $400\,000\no Recertification of the Career Center FY 24\no Connecting Activities – Dept. of Education Allotment and New Staff Members\no Grants –\n Re-entry grant $200K (July 1\, 2023 – June 30\, 2024)\n Behavioral Health Planning Grant $107K (July 1\, 2023 – December 31\, 2023\n Behavioral Health Training Grant Approx $300\,000/year – (January 2024 – 2027)\n QUEST Training Grant – $1.3 M (Covid impact) (Waiting to hear)\no Monitoring Requirements in January 2024 for the Career Center\no Standard Operating Procedures (SOP) for the Workforce Board \n• Career Center Report – Shannon Norton Calles\no FY 23 – Year in Review – Clients served and outcomes. \n• Next Meeting dates: Full Board: December 7\, 2023 – Holiday Meeting – In person (Nesmith House) \n• Adjournment
URL:https://masshiregreaterlowell.com/event/full-board-meeting-9-14-2023-minutes/
LOCATION:MA
CATEGORIES:Quarterly Meetings
END:VEVENT
BEGIN:VEVENT
DTSTART;TZID=America/New_York:20230906T150000
DTEND;TZID=America/New_York:20230906T160000
DTSTAMP:20260419T110620
CREATED:20230829T194034Z
LAST-MODIFIED:20231023T135722Z
UID:16971-1694012400-1694016000@masshiregreaterlowell.com
SUMMARY:Workforce Performance & Opportunity Committee Meeting (Sept 2023)
DESCRIPTION:Workforce Performance & Opportunities Committee (Sept 2023)
URL:https://masshiregreaterlowell.com/event/workforce-performance-opportunities-committee-sept-2023/
LOCATION:Via Zoom\, MA\, United States
CATEGORIES:Committee Meetings
END:VEVENT
BEGIN:VEVENT
DTSTART;TZID=America/New_York:20230830T140000
DTEND;TZID=America/New_York:20230830T153000
DTSTAMP:20260419T110620
CREATED:20230830T134029Z
LAST-MODIFIED:20231023T141258Z
UID:16976-1693404000-1693409400@masshiregreaterlowell.com
SUMMARY:MassHire Greater Lowell Workforce Board Executive Committee Meeting (Sept 2023) in-person
DESCRIPTION:MassHire Greater Lowell Workforce Board Executive Committee Meeting (Sept 2023) \nExecutive Board Meeting\nAugust 30\, 2023\n2-3:30 PM\nAGENDA\nStaffing – challenging environment for Career Center and WFB\nOpenings: 8 current position openings in the Career Center\nEngaged: 7 employees in place at Workforce Board\nAbbey Serpais matriculated July – Connecting Activities\nColleen Gabriel – started May – Connecting Activities.\nBrian Sok – started July – Connecting Activities/Behavioral Health.\nJob offers presently to two individuals – Connecting Activities (Mid-September start)\nManaging two regional grants: Health Hub and Behavioral Health Grants (one-half time)\nManaging two Pilot Projects (Presently – 1 p/t facilitator) (Need 2 interns)\nManaging for 4 Career Center audits: financial\, program\, oversight\, and WIOA (January)\nFunding for FY24-25:\nConnecting activities allotment from Dept of Education confirmed\nCareer Center allotment notification late September/October\nOne Stop monies slashed 60% in State Budget\nARPA – City funds\nMiscellaneous revenue\nGrants – Regular submissions through Commonwealth Corp and EOLWD\nRe-entry Grant $200K (July 1\, 2023 – June 30\, 2024)\nBehavioral Health Planning Grant $107K (July 1\, 2023 – December 31\, 2023\nBehavioral Health Training Grant Approx $300K/year – (January 2024 – 2027)\nQUEST Training Grant – $1.3 M (Covid impact) (By Comm. of Mass on our behalf)\nThe Career Center requested no further grants until they can fill vacant employment positions.\nBoard of Directors\nRetirement: Cynthia Smith – (Extremely grateful for her dedicated service and dedication)\nNominations:\nDavid Daly\, CEO\, PrideStar Emergency Medical Transportation\, Chelmsford\nToly Chea\, Owner\, Aqualite Corp.\, Tyngsborough\nUpcoming Meetings:\nPerformance and Opportunities Committee: September 6\, 2023\, at 2-3 pm (Zoom)\nFull Board of Directors: September 14\, 2023\, at 2 – 3:30 PM (Hybrid)
URL:https://masshiregreaterlowell.com/event/masshire-greater-lowell-workforce-board-executive-committee-meeting-sept-2023/
LOCATION:MassHire Greater Lowell Workforce Board\, 107 Merrimack Street\, 3rd Floor\, Lowell\, MA\, 01852\, United States
CATEGORIES:Meetings
END:VEVENT
END:VCALENDAR